BEGIN:VCALENDAR
VERSION:2.0
PRODID:-//sumitsyoga.tempurl.host - ECPv6.15.20//NONSGML v1.0//EN
CALSCALE:GREGORIAN
METHOD:PUBLISH
X-WR-CALNAME:sumitsyoga.tempurl.host
X-ORIGINAL-URL:https://sumitsyogalittleton.com
X-WR-CALDESC:Events for sumitsyoga.tempurl.host
REFRESH-INTERVAL;VALUE=DURATION:PT1H
X-Robots-Tag:noindex
X-PUBLISHED-TTL:PT1H
BEGIN:VTIMEZONE
TZID:America/Denver
BEGIN:DAYLIGHT
TZOFFSETFROM:-0700
TZOFFSETTO:-0600
TZNAME:MDT
DTSTART:20250309T090000
END:DAYLIGHT
BEGIN:STANDARD
TZOFFSETFROM:-0600
TZOFFSETTO:-0700
TZNAME:MST
DTSTART:20251102T080000
END:STANDARD
BEGIN:DAYLIGHT
TZOFFSETFROM:-0700
TZOFFSETTO:-0600
TZNAME:MDT
DTSTART:20260308T090000
END:DAYLIGHT
BEGIN:STANDARD
TZOFFSETFROM:-0600
TZOFFSETTO:-0700
TZNAME:MST
DTSTART:20261101T080000
END:STANDARD
BEGIN:DAYLIGHT
TZOFFSETFROM:-0700
TZOFFSETTO:-0600
TZNAME:MDT
DTSTART:20270314T090000
END:DAYLIGHT
BEGIN:STANDARD
TZOFFSETFROM:-0600
TZOFFSETTO:-0700
TZNAME:MST
DTSTART:20271107T080000
END:STANDARD
END:VTIMEZONE
BEGIN:VEVENT
DTSTART;TZID=America/Denver:20260101T080000
DTEND;TZID=America/Denver:20260131T170000
DTSTAMP:20260423T181334
CREATED:20251111T201820Z
LAST-MODIFIED:20251111T201820Z
UID:499-1767254400-1769878800@sumitsyogalittleton.com
SUMMARY:January Challenge
DESCRIPTION:Details Coming Soon
URL:https://sumitsyogalittleton.com/event/january-challenge/
LOCATION:Sumits Yoga Littleton
CATEGORIES:Upcoming Events
ATTACH;FMTTYPE=image/png:https://sumitsyogalittleton.com/wp-content/uploads/2025/11/yogas-067.png
ORGANIZER;CN="Sumits Yoga Littleton":MAILTO:sumitsyogacolorado@yahoo.com
END:VEVENT
END:VCALENDAR